BEGIN:VCALENDAR
VERSION:2.0
PRODID:-//eventon.com NONSGML v1.0//EN
CALSCALE:GREGORIAN
METHOD:PUBLISH
BEGIN:VEVENT
UID:69df63a4c1dad
DTSTAMP:20260415T100836Z
DTSTART:20260829T130000Z
DTEND:20260829T210000Z
LOCATION:
SUMMARY:Stimulatortrofee + BBQ
DESCRIPTION:Stimulatortrofee + BBQ\nhttps://www.vzod-uvo.nl/events/stimulat
 ortrofee-bbq/
URL:https://www.vzod-uvo.nl/events/stimulatortrofee-bbq/
END:VEVENT
END:VCALENDAR